BEGIN:VCALENDAR
VERSION:2.0
PRODID:-//Enchanted Circle Association of REALTORS® - ECPv6.15.20//NONSGML v1.0//EN
CALSCALE:GREGORIAN
METHOD:PUBLISH
X-ORIGINAL-URL:https://ecarnm.com
X-WR-CALDESC:Events for Enchanted Circle Association of REALTORS®
REFRESH-INTERVAL;VALUE=DURATION:PT1H
X-Robots-Tag:noindex
X-PUBLISHED-TTL:PT1H
BEGIN:VTIMEZONE
TZID:America/Chicago
BEGIN:DAYLIGHT
TZOFFSETFROM:-0600
TZOFFSETTO:-0500
TZNAME:CDT
DTSTART:20240310T080000
END:DAYLIGHT
BEGIN:STANDARD
TZOFFSETFROM:-0500
TZOFFSETTO:-0600
TZNAME:CST
DTSTART:20241103T070000
END:STANDARD
BEGIN:DAYLIGHT
TZOFFSETFROM:-0600
TZOFFSETTO:-0500
TZNAME:CDT
DTSTART:20250309T080000
END:DAYLIGHT
BEGIN:STANDARD
TZOFFSETFROM:-0500
TZOFFSETTO:-0600
TZNAME:CST
DTSTART:20251102T070000
END:STANDARD
BEGIN:DAYLIGHT
TZOFFSETFROM:-0600
TZOFFSETTO:-0500
TZNAME:CDT
DTSTART:20260308T080000
END:DAYLIGHT
BEGIN:STANDARD
TZOFFSETFROM:-0500
TZOFFSETTO:-0600
TZNAME:CST
DTSTART:20261101T070000
END:STANDARD
BEGIN:DAYLIGHT
TZOFFSETFROM:-0600
TZOFFSETTO:-0500
TZNAME:CDT
DTSTART:20270314T080000
END:DAYLIGHT
BEGIN:STANDARD
TZOFFSETFROM:-0500
TZOFFSETTO:-0600
TZNAME:CST
DTSTART:20271107T070000
END:STANDARD
END:VTIMEZONE
BEGIN:VEVENT
DTSTART;TZID=America/Chicago:20250716T170000
DTEND;TZID=America/Chicago:20250716T190000
DTSTAMP:20260421T173739
CREATED:20250720T180500Z
LAST-MODIFIED:20250720T194858Z
UID:20324-1752685200-1752692400@ecarnm.com
SUMMARY:ECAR YPN Inaugural Event - Wednesday Jul 16 2025
DESCRIPTION:Date: Wednesday\, Jul 16\, 2025\nTime: 5pm – 7pm\nLocation: Saltos\, 470 NM 150\, Arroyo Seco\, NM 87514\nHost: Brittany Maes\, 575-613-6034\, buydirtnm@gmail.com \n 
URL:https://ecarnm.com/event/ecar-ypn-inaugural-event-wednesday-jul-16-2025/
LOCATION:Saltos\, 470 NM 150\, Arroyo Seco\, NM\, 87514\, United States
CATEGORIES:YPN Events
ATTACH;FMTTYPE=image/png:https://ecarnm.com/wp-content/uploads/2025/03/people-43575_1280x896_01-02.png
ORGANIZER;CN="Brittany Maes":MAILTO:buydirtnm@gmail.com
END:VEVENT
BEGIN:VEVENT
DTSTART;TZID=America/Chicago:20250723T090000
DTEND;TZID=America/Chicago:20250723T130000
DTSTAMP:20260421T173739
CREATED:20250720T153335Z
LAST-MODIFIED:20250720T153335Z
UID:20247-1753261200-1753275600@ecarnm.com
SUMMARY:ECAR Member Listings Tour - Angel Fire East-North - Jul 23 2025
DESCRIPTION:Date: Jul 23\, 2025\nLocation: Angel Fire East/North\nZone: AFE/N\nTour Meister: Pat Kroblin\, 918-260-7680 \nECAR MLS Tour Zones – Angel Fire East\nECAR MLS Tour Zones – Angel Fire North
URL:https://ecarnm.com/event/ecar-member-listings-tour-angel-fire-east-north-jul-23-2025/
LOCATION:NM
CATEGORIES:Angel Fire REALTOR® Tours,ECAR Member Listings Tours
ATTACH;FMTTYPE=image/png:https://ecarnm.com/wp-content/uploads/2025/05/mortgage-6851265_1280x640_angel_fire_tour.png
END:VEVENT
BEGIN:VEVENT
DTSTART;TZID=America/Chicago:20250729T090000
DTEND;TZID=America/Chicago:20250729T130000
DTSTAMP:20260421T173739
CREATED:20250720T153534Z
LAST-MODIFIED:20250720T153534Z
UID:20250-1753779600-1753794000@ecarnm.com
SUMMARY:ECAR Member Listings Tour - Taos West - Jul 29 2025
DESCRIPTION:Date: Jul 29\, 2025\nLocation: West\nZone: W\nTour Meister: Mary Emery\, 575-770-8382 \nECAR MLS Tour Zones – Taos West
URL:https://ecarnm.com/event/ecar-member-listings-tour-taos-west-jul-29-2025/
LOCATION:NM
CATEGORIES:ECAR Member Listings Tours,Taos REALTOR® Tours
ATTACH;FMTTYPE=image/png:https://ecarnm.com/wp-content/uploads/2025/05/mortgage-6851265_1280x640_taos_tour.png
END:VEVENT
BEGIN:VEVENT
DTSTART;TZID=America/Chicago:20250806T090000
DTEND;TZID=America/Chicago:20250806T130000
DTSTAMP:20260421T173739
CREATED:20250720T153716Z
LAST-MODIFIED:20250720T153716Z
UID:20254-1754470800-1754485200@ecarnm.com
SUMMARY:ECAR Member Listings Tour - Angel Fire West-South - Aug 6 2025
DESCRIPTION:Date: Aug 6\, 2025\nLocation: Angel Fire West/South\nZone: AFW/S\nTour Meister: Lisa Mitchell\, 575-377-5189 \nECAR MLS Tour Zones – Angel Fire West\nECAR MLS Tour Zones – Angel Fire South
URL:https://ecarnm.com/event/ecar-member-listings-tour-angel-fire-west-south-aug-6-2025/
LOCATION:NM
CATEGORIES:Angel Fire REALTOR® Tours,ECAR Member Listings Tours
ATTACH;FMTTYPE=image/png:https://ecarnm.com/wp-content/uploads/2025/05/mortgage-6851265_1280x640_angel_fire_tour.png
END:VEVENT
BEGIN:VEVENT
DTSTART;TZID=America/Chicago:20250812T090000
DTEND;TZID=America/Chicago:20250812T130000
DTSTAMP:20260421T173739
CREATED:20250720T153932Z
LAST-MODIFIED:20250720T153932Z
UID:20256-1754989200-1755003600@ecarnm.com
SUMMARY:ECAR Member Listings Tour - Taos Southeast - Aug 12 2025
DESCRIPTION:Date: Aug 12\, 2025\nLocation: Southeast\nZone: SE\nTour Meister: Yvonne Lewis\, 575-770-8314 \nECAR MLS Tour Zones – Taos Southeast
URL:https://ecarnm.com/event/ecar-member-listings-tour-taos-southeast-aug-12-2025/
LOCATION:NM
CATEGORIES:ECAR Member Listings Tours,Taos REALTOR® Tours
ATTACH;FMTTYPE=image/png:https://ecarnm.com/wp-content/uploads/2025/05/mortgage-6851265_1280x640_taos_tour.png
END:VEVENT
BEGIN:VEVENT
DTSTART;TZID=America/Chicago:20250814T113000
DTEND;TZID=America/Chicago:20250814T130000
DTSTAMP:20260421T173739
CREATED:20250719T224629Z
LAST-MODIFIED:20250719T224629Z
UID:19894-1755171000-1755176400@ecarnm.com
SUMMARY:ECAR Membership Luncheon – Thursday\, August 14\, 2025
DESCRIPTION:August 14th @ 11:30 a.m. Luncheon @ Mikuna Grill\, Angel Fire\, NM. Guest Speaker: Greg Ralph\, Angel Fire Tourism Director. (Sign-up sheet to go out at a later date.) \nMikuna Grill. 48 North Angel Fire Road\, Angel Fire\, New Mexico 87710\, United States. (575) 377 6610 (575) 240 1151.
URL:https://ecarnm.com/event/ecar-membership-luncheon-thursday-august-14-2025/
LOCATION:Mikuna Grill\, 48 North Angel Fire Rd\, Angel Fire\, 87710\, United States
CATEGORIES:Membership Meetings
ATTACH;FMTTYPE=image/png:https://ecarnm.com/wp-content/uploads/2016/10/Membership_Luncheon.png
ORGANIZER;CN="ECAR":MAILTO:taoscar@newmex.com
END:VEVENT
BEGIN:VEVENT
DTSTART;TZID=America/Chicago:20250820T090000
DTEND;TZID=America/Chicago:20250820T130000
DTSTAMP:20260421T173739
CREATED:20250720T154130Z
LAST-MODIFIED:20250720T154130Z
UID:20259-1755680400-1755694800@ecarnm.com
SUMMARY:ECAR Member Listings Tour - Angel Fire East-North - Aug 20 2025
DESCRIPTION:Date: Aug 20\, 2025\nLocation: Angel Fire East/North\nZone: AFE/N\nTour Meister: Cathe Moon\, 505-795-3773 \nECAR MLS Tour Zones – Angel Fire East\nECAR MLS Tour Zones – Angel Fire North
URL:https://ecarnm.com/event/ecar-member-listings-tour-angel-fire-east-north-aug-20-2025/
LOCATION:NM
CATEGORIES:Angel Fire REALTOR® Tours,ECAR Member Listings Tours
ATTACH;FMTTYPE=image/png:https://ecarnm.com/wp-content/uploads/2025/05/mortgage-6851265_1280x640_angel_fire_tour.png
END:VEVENT
BEGIN:VEVENT
DTSTART;TZID=America/Chicago:20250826T090000
DTEND;TZID=America/Chicago:20250826T130000
DTSTAMP:20260421T173739
CREATED:20250720T154309Z
LAST-MODIFIED:20250720T154309Z
UID:20263-1756198800-1756213200@ecarnm.com
SUMMARY:ECAR Member Listings Tour - Taos Upper-Lower North - Aug 26 2025
DESCRIPTION:Date: Aug 26\, 2025\nLocation: Taos Upper/Lower North\nZone: U/L/N\nTour Meister: Evan Blish\, 575-776-8106 \nECAR MLS Tour Zones – Taos Upper North\nECAR MLS Tour Zones – Taos Lower North
URL:https://ecarnm.com/event/ecar-member-listings-tour-taos-upper-lower-north-aug-26-2025/
LOCATION:NM
CATEGORIES:ECAR Member Listings Tours,Taos REALTOR® Tours
ATTACH;FMTTYPE=image/png:https://ecarnm.com/wp-content/uploads/2025/05/mortgage-6851265_1280x640_taos_tour.png
END:VEVENT
BEGIN:VEVENT
DTSTART;TZID=America/Chicago:20260122T113000
DTEND;TZID=America/Chicago:20260122T130000
DTSTAMP:20260421T173739
CREATED:20260114T150508Z
LAST-MODIFIED:20260114T150508Z
UID:34352-1769081400-1769086800@ecarnm.com
SUMMARY:ECAR Membership Luncheon – Thursday\, January 22\, 2026
DESCRIPTION:January 22nd @ 11:30 a.m. Luncheon @ Amigos Locale\, Taos\, NM. \nInstallation of 2026 ECAR Officers & Directors \nECAR REALTOR® of the Year will be announced. \nGet the latest news & updates from your State Association Guest Speakers:\n– Amparo Usrey\, NMAR President Elect\, and\n– Andrea Dobyns\, NMAR Northeast District VP \n  \nAmigos Locale\n330 Paseo Del Pueblo Sur A\nTaos\, NM 87571\n575-758-4181 \nWelcome \n \nMenu: Taco Bar with all the fixings\, Dessert & Drink \n$18.00 per person \n  \n 
URL:https://ecarnm.com/event/ecar-membership-luncheon-thursday-january-22-2026/
LOCATION:Amigos Locale\, 330 Paseo Del Pueblo Sur A\, Taos\, NM\, 87571\, United States
CATEGORIES:Membership Meetings
ATTACH;FMTTYPE=image/png:https://ecarnm.com/wp-content/uploads/2016/10/Membership_Luncheon.png
ORGANIZER;CN="ECAR":MAILTO:taoscar@newmex.com
END:VEVENT
BEGIN:VEVENT
DTSTART;TZID=America/Chicago:20260127T080000
DTEND;TZID=America/Chicago:20260130T170000
DTSTAMP:20260421T173739
CREATED:20260114T161022Z
LAST-MODIFIED:20260114T161054Z
UID:34368-1769500800-1769792400@ecarnm.com
SUMMARY:NMAR 2026 Legislative Conference
DESCRIPTION:2026 NMAR Legislative Conference | Jan 27-30 | Eldorado Hotel\, Santa Fe\, NM\n\nJoin NM REALTORS® in Santa Fe for the 2026 Legislative Conference—a dynamic week dedicated to leadership\, learning\, and advocacy at the heart of New Mexico’s legislative process. From professional development and committee meetings to legislative briefings and face-to-face conversations at the Roundhouse\, this conference offers REALTORS® the opportunity to strengthen their voice and influence public policy that impacts property owners and our industry. Along the way\, we’ll celebrate leadership\, connect with colleagues from across the state\, and stand united as the REALTOR® Party in advancing a strong future for real estate in New Mexico. \nGet full details here:  https://www.nmrealtor.com/2026legislative/
URL:https://ecarnm.com/event/nmar-2026-legislative-conference/
LOCATION:El Dorado Hotel\, 309 W San Francisco St\, Santa Fe\, NM\, 87501\, United States
CATEGORIES:NMAR Conferences
ORGANIZER;CN="New Mexico Association of REALTORS%C2%AE(NMAR)":MAILTO:info@nmrealtor.com
END:VEVENT
BEGIN:VEVENT
DTSTART;TZID=America/Chicago:20260407T090000
DTEND;TZID=America/Chicago:20260407T110000
DTSTAMP:20260421T173739
CREATED:20260321T133334Z
LAST-MODIFIED:20260323T135051Z
UID:36668-1775552400-1775559600@ecarnm.com
SUMMARY:ECAR Member Listings Tour - Taos Town of Taos - Apr 7 2026
DESCRIPTION:Date: Apr 7\, 2026\nLocation: Taos Town of Taos\nZone: TOT\nTour Meister: Jolie Jones\, 575-741-0603 \nECAR MLS Tour Zones – Taos Town of Taos
URL:https://ecarnm.com/event/ecar-member-listings-tour-taos-town-of-taos-apr-7-2026/
LOCATION:ECAR Office\, 1210 H Salazar Rd\, Taos\, New Mexico\, NM\, 87571\, United States
CATEGORIES:ECAR Member Listings Tours,Taos REALTOR® Tours
ATTACH;FMTTYPE=image/png:https://ecarnm.com/wp-content/uploads/2025/05/mortgage-6851265_1280x640_taos_tour.png
END:VEVENT
BEGIN:VEVENT
DTSTART;TZID=America/Chicago:20260414T090000
DTEND;TZID=America/Chicago:20260414T110000
DTSTAMP:20260421T173739
CREATED:20260321T133756Z
LAST-MODIFIED:20260323T135157Z
UID:36671-1776157200-1776164400@ecarnm.com
SUMMARY:ECAR Member Listings Tour - Taos Southwest - Apr 14 2026
DESCRIPTION:Date: Apr 14\, 2026\nLocation: Southwest\nZone: SW\nTour Meister: Mary Emery\, 575-770-8382 \nECAR MLS Tour Zones – Taos Southwest
URL:https://ecarnm.com/event/ecar-member-listings-tour-taos-southwest-apr-14-2026/
LOCATION:ECAR Office\, 1210 H Salazar Rd\, Taos\, New Mexico\, NM\, 87571\, United States
CATEGORIES:ECAR Member Listings Tours,Taos REALTOR® Tours
ATTACH;FMTTYPE=image/png:https://ecarnm.com/wp-content/uploads/2025/05/mortgage-6851265_1280x640_taos_tour.png
END:VEVENT
BEGIN:VEVENT
DTSTART;TZID=America/Chicago:20260421T090000
DTEND;TZID=America/Chicago:20260421T110000
DTSTAMP:20260421T173739
CREATED:20260321T134031Z
LAST-MODIFIED:20260323T135232Z
UID:36673-1776762000-1776769200@ecarnm.com
SUMMARY:ECAR Member Listings Tour - Taos Upper-Lower North - Apr 21 2026
DESCRIPTION:Date: Apr 21\, 2026\nLocation: Taos Upper/Lower North\nZone: U/L/N\nTour Meister: Jenny Orrison\, 575-770-7162 \nECAR MLS Tour Zones – Taos Upper North\nECAR MLS Tour Zones – Taos Lower North
URL:https://ecarnm.com/event/ecar-member-listings-tour-taos-upper-lower-north-apr-21-2026/
LOCATION:ECAR Office\, 1210 H Salazar Rd\, Taos\, New Mexico\, NM\, 87571\, United States
CATEGORIES:ECAR Member Listings Tours,Taos REALTOR® Tours
ATTACH;FMTTYPE=image/png:https://ecarnm.com/wp-content/uploads/2025/05/mortgage-6851265_1280x640_taos_tour.png
END:VEVENT
BEGIN:VEVENT
DTSTART;TZID=America/Chicago:20260428T090000
DTEND;TZID=America/Chicago:20260428T110000
DTSTAMP:20260421T173739
CREATED:20260321T134306Z
LAST-MODIFIED:20260323T135302Z
UID:36675-1777366800-1777374000@ecarnm.com
SUMMARY:ECAR Member Listings Tour - Taos West - Apr 28 2026
DESCRIPTION:Date: Apr 28\, 2026\nLocation: West\nZone: W\nTour Meister: Alex Cancro\, 575-770-9756 \nECAR MLS Tour Zones – Taos West
URL:https://ecarnm.com/event/ecar-member-listings-tour-taos-west-apr-28-2026/
LOCATION:ECAR Office\, 1210 H Salazar Rd\, Taos\, New Mexico\, NM\, 87571\, United States
CATEGORIES:ECAR Member Listings Tours,Taos REALTOR® Tours
ATTACH;FMTTYPE=image/png:https://ecarnm.com/wp-content/uploads/2025/05/mortgage-6851265_1280x640_taos_tour.png
END:VEVENT
BEGIN:VEVENT
DTSTART;TZID=America/Chicago:20260505T090000
DTEND;TZID=America/Chicago:20260505T110000
DTSTAMP:20260421T173739
CREATED:20260321T134554Z
LAST-MODIFIED:20260323T135354Z
UID:36677-1777971600-1777978800@ecarnm.com
SUMMARY:ECAR Member Listings Tour - Taos Southeast - May 5 2026
DESCRIPTION:Date: May 5\, 2026\nLocation: Taos Southeast\nZone: SE\nTour Meister: Jolie Jones\, 575-741-0603 \nECAR MLS Tour Zones – Taos Southeast
URL:https://ecarnm.com/event/ecar-member-listings-tour-taos-southeast-may-5-2026/
LOCATION:ECAR Office\, 1210 H Salazar Rd\, Taos\, New Mexico\, NM\, 87571\, United States
CATEGORIES:ECAR Member Listings Tours,Taos REALTOR® Tours
ATTACH;FMTTYPE=image/png:https://ecarnm.com/wp-content/uploads/2025/05/mortgage-6851265_1280x640_taos_tour.png
END:VEVENT
BEGIN:VEVENT
DTSTART;TZID=America/Chicago:20260507T090000
DTEND;TZID=America/Chicago:20260508T170000
DTSTAMP:20260421T173739
CREATED:20260416T182920Z
LAST-MODIFIED:20260417T155248Z
UID:37593-1778144400-1778259600@ecarnm.com
SUMMARY:ECAR 2026 Spring Continuing Education Fair - May 7-8 2026
DESCRIPTION:ECAR 2026 Spring Continuing Education Fair\nThu May 7\, 2026 – 9:00-11:00; 1:00-5:00\nFri May 8\, 2026 – 8:00-12:00; 1:00-5:00 \nSee the Schedule and Sign-up Sheet here:  https://ecarnm.com/wp-content/uploads/2026/04/2026-Spring-Ed-Fair.pdf \n 
URL:https://ecarnm.com/event/ecar-2026-spring-continuing-education-fair-may-7-8-2026/
LOCATION:Taos Valley Lodge\, 615 Paseo Del Pueblo Sur\, Taos\, 87571\, United States
CATEGORIES:Continuing Education
ATTACH;FMTTYPE=image/png:https://ecarnm.com/wp-content/uploads/2025/04/man-6107457_1280x640_custom-04.png
END:VEVENT
BEGIN:VEVENT
DTSTART;TZID=America/Chicago:20260512T090000
DTEND;TZID=America/Chicago:20260512T110000
DTSTAMP:20260421T173739
CREATED:20260321T135009Z
LAST-MODIFIED:20260323T135429Z
UID:36679-1778576400-1778583600@ecarnm.com
SUMMARY:ECAR Member Listings Tour - Taos West North - May 12 2026
DESCRIPTION:Date: May 12\, 2026\nLocation: West North\nZone: WN\nTour Meister: Molly Barlyn\, 575-741-1058 \nECAR MLS Tour Zones – Taos West North
URL:https://ecarnm.com/event/ecar-member-listings-tour-taos-west-north-may-12-2026/
LOCATION:ECAR Office\, 1210 H Salazar Rd\, Taos\, New Mexico\, NM\, 87571\, United States
CATEGORIES:ECAR Member Listings Tours,Taos REALTOR® Tours
ATTACH;FMTTYPE=image/png:https://ecarnm.com/wp-content/uploads/2025/05/mortgage-6851265_1280x640_taos_tour.png
END:VEVENT
BEGIN:VEVENT
DTSTART;TZID=America/Chicago:20260519T090000
DTEND;TZID=America/Chicago:20260519T110000
DTSTAMP:20260421T173739
CREATED:20260409T180307Z
LAST-MODIFIED:20260409T233625Z
UID:37575-1779181200-1779188400@ecarnm.com
SUMMARY:ECAR Member Listings Tour - Taos East - May 19 2026
DESCRIPTION:Date: May 19\, 2026\nLocation: Taos East\nZone: E\nTour Meister: Jenny Orrison\, 575-770-7162 \nECAR MLS Tour Zones – Taos East
URL:https://ecarnm.com/event/ecar-member-listings-tour-taos-east-may-19-2026/
LOCATION:ECAR Office\, 1210 H Salazar Rd\, Taos\, New Mexico\, NM\, 87571\, United States
CATEGORIES:ECAR Member Listings Tours,Taos REALTOR® Tours
ATTACH;FMTTYPE=image/png:https://ecarnm.com/wp-content/uploads/2025/05/mortgage-6851265_1280x640_taos_tour.png
END:VEVENT
BEGIN:VEVENT
DTSTART;TZID=America/Chicago:20260526T090000
DTEND;TZID=America/Chicago:20260526T110000
DTSTAMP:20260421T173739
CREATED:20260409T233435Z
LAST-MODIFIED:20260410T021316Z
UID:37583-1779786000-1779793200@ecarnm.com
SUMMARY:ECAR Member Listings Tour - No Taos Tour - May 26 2026
DESCRIPTION:No Tour / Holiday Week\nDate: May 26\, 2026\nLocation:\nZone:\nTour Meister: \n 
URL:https://ecarnm.com/event/ecar-member-listings-tour-no-taos-tour-may-26-2026/
LOCATION:NM
CATEGORIES:ECAR Member Listings Tours,Taos REALTOR® Tours
ATTACH;FMTTYPE=image/png:https://ecarnm.com/wp-content/uploads/2025/05/mortgage-6851265_1280x640_taos_tour.png
END:VEVENT
END:VCALENDAR